BEGIN:VCALENDAR
VERSION:2.0
PRODID:-//Tukios.com/
BEGIN:VEVENT
UID:ecaa0dbb-d967-438a-a5a3-04e973cd09f4@www.mannslonakerfuneralhome.com
DTSTAMP:20260424T203016Z
DTSTART:20260501T133000Z
DTEND:20260501T150000Z
SUMMARY:Public Viewing
DESCRIPTION:
URL:https://www.mannslonakerfuneralhome.com/obituaries/betty-schuler
LOCATION:Mann-Slonaker Funeral Home 222 Washington St.  East Greenville 
	PA 18041
GEO:40.4050536;-75.4998009
END:VEVENT
END:VCALENDAR