BEGIN:VCALENDAR
VERSION:2.0
PRODID:-//Tukios.com/
BEGIN:VEVENT
UID:e02dbba1-7612-4271-9b00-5777be27413b@www.mannslonakerfuneralhome.com
DTSTAMP:20260424T203441Z
DTSTART:20260501T150000Z
DTEND:20260501T160000Z
SUMMARY:Funeral Service
DESCRIPTION:
URL:https://www.mannslonakerfuneralhome.com/obituaries/betty-schuler
LOCATION:Mann-Slonaker Funeral Home 222 Washington St.  East Greenville 
	PA 18041
GEO:40.4050536;-75.4998009
END:VEVENT
END:VCALENDAR