BEGIN:VCALENDAR
VERSION:2.0
PRODID:-//Tukios.com/
BEGIN:VEVENT
UID:954eeb2d-c054-48f4-a7da-0f439eadba03@www.mannslonakerfuneralhome.com
DTSTAMP:20260424T203344Z
DTSTART:20260501T183000Z
DTEND:20260501T193000Z
SUMMARY:Memorial Service
DESCRIPTION:
URL:https://www.mannslonakerfuneralhome.com/obituaries/frank-papez
LOCATION:Mann-Slonaker Funeral Home 222 Washington St.  East Greenville 
	PA 18041
GEO:40.4050536;-75.4998009
END:VEVENT
END:VCALENDAR