BEGIN:VCALENDAR
VERSION:2.0
PRODID:-//Tukios.com/
BEGIN:VEVENT
UID:ea374798-0132-4b2c-86a5-b90b30fa1148@www.mannslonakerfuneralhome.com
DTSTAMP:20260424T202503Z
DTSTART:20260501T173000Z
DTEND:20260501T183000Z
SUMMARY:Visitation
DESCRIPTION:
URL:https://www.mannslonakerfuneralhome.com/obituaries/frank-papez
LOCATION:Mann-Slonaker Funeral Home 222 Washington St.  East Greenville 
	PA 18041
GEO:40.4050536;-75.4998009
END:VEVENT
END:VCALENDAR